BEGIN:VCALENDAR
VERSION:2.0
PRODID:SchoolNow
CALSCALE:GREGORIAN
BEGIN:VEVENT
UID:cf311edc-f9fa-11ea-9b9f-0a2fd307d249
DTSTAMP:20210315T154216Z
SUMMARY:CDD Board Meeting - Mar. 2021
LOCATION:Holiday Inn Express\, 10115 William Carey Drive\, Orlando\, Florid
 a 32832
URL;VALUE=URI:https://www.eastparkcdd.org/calendar/2365590/cdd-board-meetin
 g-mar-2021
DTSTART:20210322T210000Z
DTEND:20210322T220000Z
ATTACH;FILENAME=2021-03-22 East Park Agenda.pdf;FMTTYPE=application/pdf:htt
 ps://campussuite-storage.s3.amazonaws.com/prod/1558937/e9efa044-f051-11e9-
 8a78-12606da399aa/2239728/014b4740-85a5-11eb-9c52-0ef7c41c3cad/file/2021-0
 3-22 East Park Agenda.pdf
END:VEVENT
END:VCALENDAR
