BEGIN:VCALENDAR
VERSION:2.0
PRODID:SchoolNow
CALSCALE:GREGORIAN
BEGIN:VEVENT
UID:e6c11e1c-f9fa-11ea-a4c1-0a2fd307d249
DTSTAMP:20210524T164824Z
SUMMARY:CDD Tentative Budget Meeting - May 2021
LOCATION:Holiday Inn Express\, 10115 William Carey Drive\, Orlando\, Florid
 a 32832. Call in  646-838-1601 Conference ID: 686 476 865#
URL;VALUE=URI:https://www.eastparkcdd.org/calendar/2365591/cdd-board-meetin
 g-may-2021
DTSTART:20210524T210000Z
DTEND:20210524T220000Z
ATTACH;FILENAME=2021-05-24 East Park Agenda.pdf;FMTTYPE=application/pdf:htt
 ps://campussuite-storage.s3.amazonaws.com/prod/1558937/e9efa044-f051-11e9-
 8a78-12606da399aa/2265062/80f5e3ce-b78c-11eb-a7c2-0a3e50a537b9/file/2021-0
 5-24 East Park Agenda.pdf
END:VEVENT
END:VCALENDAR
