BEGIN:VCALENDAR
VERSION:2.0
PRODID:SchoolNow
CALSCALE:GREGORIAN
BEGIN:VEVENT
UID:120a49ae-f9fb-11ea-8835-0a2fd307d249
DTSTAMP:20210920T230803Z
SUMMARY:CDD Board Meeting - Sep. 2021
LOCATION:Holiday Inn Express\, 10115 William Carey Drive\, Orlando\, Florid
 a 32832
URL;VALUE=URI:https://www.eastparkcdd.org/calendar/2365593/cdd-board-meetin
 g-sep-2021
DTSTART:20210927T210000Z
DTEND:20210927T220000Z
ATTACH;FILENAME=2021-09-27 East Park Agenda.pdf;FMTTYPE=application/pdf:htt
 ps://campussuite-storage.s3.amazonaws.com/prod/1558937/e9efa044-f051-11e9-
 8a78-12606da399aa/2317761/c91d6054-1a66-11ec-a22d-0ea894f4a46d/file/2021-0
 9-27 East Park Agenda.pdf
END:VEVENT
END:VCALENDAR
