BEGIN:VCALENDAR
VERSION:2.0
PRODID:SchoolNow
CALSCALE:GREGORIAN
BEGIN:VEVENT
UID:14378b7a-117d-11ec-a57d-026ddbde1783
DTSTAMP:20211109T042246Z
SUMMARY:CDD Board Meeting - Nov. 2021
LOCATION:Holiday Inn Express\, 10115 William Carey Drive\, Orlando\, Florid
 a 32832
URL;VALUE=URI:https://www.eastparkcdd.org/calendar/2719987/cdd-board-meetin
 g-nov-2021
DTSTART:20211115T220000Z
DTEND:20211115T230000Z
ATTACH;FILENAME=2021-11-15 East Park Agenda.pdf;FMTTYPE=application/pdf:htt
 ps://campussuite-storage.s3.amazonaws.com/prod/1558937/e9efa044-f051-11e9-
 8a78-12606da399aa/2341804/94fa369c-4114-11ec-aad7-0e471ced210f/file/2021-1
 1-15 East Park Agenda.pdf
END:VEVENT
END:VCALENDAR
