BEGIN:VCALENDAR
VERSION:2.0
PRODID:SchoolNow
CALSCALE:GREGORIAN
BEGIN:VEVENT
UID:20989f08-117d-11ec-80ac-026ddbde1783
DTSTAMP:20220114T175641Z
SUMMARY:CDD Board Meeting - Jan. 2022
LOCATION:Holiday Inn Express\, 10115 William Carey Drive\, Orlando\, Florid
 a 32832
URL;VALUE=URI:https://www.eastparkcdd.org/calendar/2719989/cdd-board-meetin
 g-jan-2022
DTSTART:20220124T220000Z
DTEND:20220124T230000Z
ATTACH;FILENAME=2022-01-24 East Park Agenda.pdf;FMTTYPE=application/pdf:htt
 ps://campussuite-storage.s3.amazonaws.com/prod/1558937/e9efa044-f051-11e9-
 8a78-12606da399aa/2363670/5178cd4c-7563-11ec-b7e0-0af72bda1c2b/file/2022-0
 1-24 East Park Agenda.pdf
END:VEVENT
END:VCALENDAR
