BEGIN:VCALENDAR
VERSION:2.0
PRODID:SchoolNow
CALSCALE:GREGORIAN
BEGIN:VEVENT
UID:2ec2ed18-117d-11ec-9a11-026ddbde1783
DTSTAMP:20220321T201239Z
SUMMARY:CDD Board Meeting - Mar. 2022
LOCATION:Holiday Inn Express\, 10115 William Carey Drive\, Orlando\, Florid
 a 32832
URL;VALUE=URI:https://www.eastparkcdd.org/calendar/2719990/cdd-board-meetin
 g-mar-2022
DTSTART:20220328T210000Z
DTEND:20220328T220000Z
ATTACH;FILENAME=2022-03-28 East Park Agenda.pdf;FMTTYPE=application/pdf:htt
 ps://campussuite-storage.s3.amazonaws.com/prod/1558937/e9efa044-f051-11e9-
 8a78-12606da399aa/2390967/3cf523d8-a953-11ec-966f-0a2297a44635/file/2022-0
 3-28 East Park Agenda.pdf
END:VEVENT
END:VCALENDAR
