BEGIN:VCALENDAR
VERSION:2.0
PRODID:SchoolNow
CALSCALE:GREGORIAN
BEGIN:VEVENT
UID:4272308a-117d-11ec-b55a-026ddbde1783
DTSTAMP:20220519T120937Z
SUMMARY:CDD Board Meeting (Tentative Budget) - May 2022
LOCATION:Holiday Inn Express\, 10115 William Carey Drive\, Orlando\, Florid
 a 32832
URL;VALUE=URI:https://www.eastparkcdd.org/calendar/2719991/cdd-board-meetin
 g-may-2022
DTSTART:20220523T210000Z
DTEND:20220523T220000Z
ATTACH;FILENAME=2022-05-23 East Park Agenda Package.pdf;FMTTYPE=application
 /pdf:https://campussuite-storage.s3.amazonaws.com/prod/1558937/e9efa044-f0
 51-11e9-8a78-12606da399aa/2419496/88cfe1ca-d76c-11ec-a870-02b3bc80fcd3/fil
 e/2022-05-23 East Park Agenda Package.pdf
END:VEVENT
END:VCALENDAR
