BEGIN:VCALENDAR
VERSION:2.0
PRODID:SchoolNow
CALSCALE:GREGORIAN
BEGIN:VEVENT
UID:6125e35a-117d-11ec-a038-026ddbde1783
DTSTAMP:20220609T184152Z
SUMMARY:CDD Board Meeting (Budget PH) - Jul. 2022
LOCATION:Valencia College – Lake Nona 12350 Narcoossee Road Room 1-148 Or
 lando\, Florida 32832
URL;VALUE=URI:https://www.eastparkcdd.org/calendar/2719992/cdd-board-meetin
 g-budget-ph-jul-2022
DTSTART:20220725T210000Z
DTEND:20220725T220000Z
END:VEVENT
END:VCALENDAR
