BEGIN:VCALENDAR
VERSION:2.0
PRODID:SchoolNow
CALSCALE:GREGORIAN
BEGIN:VEVENT
UID:f32f85f6-202d-11ee-a66a-0e28888e306f
DTSTAMP:20230724T203923Z
SUMMARY:CDD Board Meeting  - Jul. 31\, 2023
LOCATION:Valencia College - Lake Nona Campus\, 12350 Narcoossee Road\, Orla
 ndo\, FL 32832\, Room 148
URL;VALUE=URI:https://www.eastparkcdd.org/calendar/4488477/cdd-board-meetin
 g-jul-31-2023
DTSTART:20230731T210000Z
DTEND:20230731T220000Z
ATTACH;FILENAME=2023-07-31 East Park Agenda.pdf;FMTTYPE=application/pdf:htt
 ps://campussuite-storage.s3.amazonaws.com/prod/1558937/e9efa044-f051-11e9-
 8a78-12606da399aa/2633755/28cc78c0-2a62-11ee-b554-0ebd7a7d4b03/file/2023-0
 7-31 East Park Agenda.pdf
END:VEVENT
END:VCALENDAR
